BEGIN:VCALENDAR
VERSION:2.0
PRODID:-//Blue Ridge Music Trails - ECPv6.15.18//NONSGML v1.0//EN
CALSCALE:GREGORIAN
METHOD:PUBLISH
X-ORIGINAL-URL:https://www.blueridgemusicnc.com
X-WR-CALDESC:Events for Blue Ridge Music Trails
REFRESH-INTERVAL;VALUE=DURATION:PT1H
X-Robots-Tag:noindex
X-PUBLISHED-TTL:PT1H
BEGIN:VTIMEZONE
TZID:America/New_York
BEGIN:DAYLIGHT
TZOFFSETFROM:-0500
TZOFFSETTO:-0400
TZNAME:EDT
DTSTART:20240310T070000
END:DAYLIGHT
BEGIN:STANDARD
TZOFFSETFROM:-0400
TZOFFSETTO:-0500
TZNAME:EST
DTSTART:20241103T060000
END:STANDARD
BEGIN:DAYLIGHT
TZOFFSETFROM:-0500
TZOFFSETTO:-0400
TZNAME:EDT
DTSTART:20250309T070000
END:DAYLIGHT
BEGIN:STANDARD
TZOFFSETFROM:-0400
TZOFFSETTO:-0500
TZNAME:EST
DTSTART:20251102T060000
END:STANDARD
BEGIN:DAYLIGHT
TZOFFSETFROM:-0500
TZOFFSETTO:-0400
TZNAME:EDT
DTSTART:20260308T070000
END:DAYLIGHT
BEGIN:STANDARD
TZOFFSETFROM:-0400
TZOFFSETTO:-0500
TZNAME:EST
DTSTART:20261101T060000
END:STANDARD
END:VTIMEZONE
BEGIN:VEVENT
DTSTART;TZID=America/New_York:20250830T180000
DTEND;TZID=America/New_York:20250830T200000
DTSTAMP:20260419T135344
CREATED:20160329T040000Z
LAST-MODIFIED:20250522T165534Z
UID:54483-1756576800-1756584000@www.blueridgemusicnc.com
SUMMARY:Todd Summer Music Series
DESCRIPTION:We are very excited about the 2025 Todd Summer Music Series lineup featuring six bands. The concerts take place outdoors in Cook Memorial Park in downtown Todd\, 3865 Todd Railroad Grade Road. Please bring a chair or blanket to sit on. Well-behaved dogs on leashed are welcome. Hamburgers\, hotdogs and veggie burgers off the grill are available for sale\, as well as chips and cookies. We hope to see you there. Please check our Facebook page here for updates in case of possible bad weather. \nHere is the 2025 lineup:\nSaturday\, June 28 – The Lucky Strikes\, 6:00 PM – 8:00 PM  \nFriday\, July 4 – The King Bees (concert starts at the end of the Todd Liberty Parade)\, 11:30 AM – 1:30 PM \nSaturday\, July 19 – Wayne Henderson & Friends\, 6:00 PM – 8:00 PM \nSaturday\, Aug 2 – The Burnett Sisters\, 6:00 PM – 8:00 PM  \nSaturday\, Aug 16 – Sassafras\, 6:00 PM – 8:00 PM  \nSaturday\, Aug 30 – Jeff Little Trio\, 6:00 PM – 8:00 PM 
URL:https://www.blueridgemusicnc.com/event/todd-summer-music-series/2025-08-30/
LOCATION:Cook Memorial Park\, 3977 Todd Railroad Grade Road\, Todd\, NC\, 28684\, United States
CATEGORIES:Bluegrass,Old-Time
ATTACH;FMTTYPE=image/png:https://www.blueridgemusicnc.com/wp-content/uploads/2016/03/The-Burnette-Sisters-Todd-Summer-Concert-Series-e1677007716637.png
ORGANIZER;CN="Todd Community Preservation Organization":MAILTO:Info@ToddNC.org
GEO:36.3084142;-81.594863
X-APPLE-STRUCTURED-LOCATION;VALUE=URI;X-ADDRESS=Cook Memorial Park 3977 Todd Railroad Grade Road Todd NC 28684 United States;X-APPLE-RADIUS=500;X-TITLE=3977 Todd Railroad Grade Road:geo:-81.594863,36.3084142
END:VEVENT
BEGIN:VEVENT
DTSTART;TZID=America/New_York:20250816T180000
DTEND;TZID=America/New_York:20250816T200000
DTSTAMP:20260419T135344
CREATED:20160329T040000Z
LAST-MODIFIED:20250522T165533Z
UID:54482-1755367200-1755374400@www.blueridgemusicnc.com
SUMMARY:Todd Summer Music Series
DESCRIPTION:We are very excited about the 2025 Todd Summer Music Series lineup featuring six bands. The concerts take place outdoors in Cook Memorial Park in downtown Todd\, 3865 Todd Railroad Grade Road. Please bring a chair or blanket to sit on. Well-behaved dogs on leashed are welcome. Hamburgers\, hotdogs and veggie burgers off the grill are available for sale\, as well as chips and cookies. We hope to see you there. Please check our Facebook page here for updates in case of possible bad weather. \nHere is the 2025 lineup:\nSaturday\, June 28 – The Lucky Strikes\, 6:00 PM – 8:00 PM  \nFriday\, July 4 – The King Bees (concert starts at the end of the Todd Liberty Parade)\, 11:30 AM – 1:30 PM \nSaturday\, July 19 – Wayne Henderson & Friends\, 6:00 PM – 8:00 PM \nSaturday\, Aug 2 – The Burnett Sisters\, 6:00 PM – 8:00 PM  \nSaturday\, Aug 16 – Sassafras\, 6:00 PM – 8:00 PM  \nSaturday\, Aug 30 – Jeff Little Trio\, 6:00 PM – 8:00 PM 
URL:https://www.blueridgemusicnc.com/event/todd-summer-music-series/2025-08-16/
LOCATION:Cook Memorial Park\, 3977 Todd Railroad Grade Road\, Todd\, NC\, 28684\, United States
CATEGORIES:Bluegrass,Old-Time
ATTACH;FMTTYPE=image/png:https://www.blueridgemusicnc.com/wp-content/uploads/2016/03/The-Burnette-Sisters-Todd-Summer-Concert-Series-e1677007716637.png
ORGANIZER;CN="Todd Community Preservation Organization":MAILTO:Info@ToddNC.org
GEO:36.3084142;-81.594863
X-APPLE-STRUCTURED-LOCATION;VALUE=URI;X-ADDRESS=Cook Memorial Park 3977 Todd Railroad Grade Road Todd NC 28684 United States;X-APPLE-RADIUS=500;X-TITLE=3977 Todd Railroad Grade Road:geo:-81.594863,36.3084142
END:VEVENT
BEGIN:VEVENT
DTSTART;TZID=America/New_York:20250802T180000
DTEND;TZID=America/New_York:20250802T200000
DTSTAMP:20260419T135344
CREATED:20160329T040000Z
LAST-MODIFIED:20250522T165533Z
UID:54481-1754157600-1754164800@www.blueridgemusicnc.com
SUMMARY:Todd Summer Music Series
DESCRIPTION:We are very excited about the 2025 Todd Summer Music Series lineup featuring six bands. The concerts take place outdoors in Cook Memorial Park in downtown Todd\, 3865 Todd Railroad Grade Road. Please bring a chair or blanket to sit on. Well-behaved dogs on leashed are welcome. Hamburgers\, hotdogs and veggie burgers off the grill are available for sale\, as well as chips and cookies. We hope to see you there. Please check our Facebook page here for updates in case of possible bad weather. \nHere is the 2025 lineup:\nSaturday\, June 28 – The Lucky Strikes\, 6:00 PM – 8:00 PM  \nFriday\, July 4 – The King Bees (concert starts at the end of the Todd Liberty Parade)\, 11:30 AM – 1:30 PM \nSaturday\, July 19 – Wayne Henderson & Friends\, 6:00 PM – 8:00 PM \nSaturday\, Aug 2 – The Burnett Sisters\, 6:00 PM – 8:00 PM  \nSaturday\, Aug 16 – Sassafras\, 6:00 PM – 8:00 PM  \nSaturday\, Aug 30 – Jeff Little Trio\, 6:00 PM – 8:00 PM 
URL:https://www.blueridgemusicnc.com/event/todd-summer-music-series/2025-08-02/
LOCATION:Cook Memorial Park\, 3977 Todd Railroad Grade Road\, Todd\, NC\, 28684\, United States
CATEGORIES:Bluegrass,Old-Time
ATTACH;FMTTYPE=image/png:https://www.blueridgemusicnc.com/wp-content/uploads/2016/03/The-Burnette-Sisters-Todd-Summer-Concert-Series-e1677007716637.png
ORGANIZER;CN="Todd Community Preservation Organization":MAILTO:Info@ToddNC.org
GEO:36.3084142;-81.594863
X-APPLE-STRUCTURED-LOCATION;VALUE=URI;X-ADDRESS=Cook Memorial Park 3977 Todd Railroad Grade Road Todd NC 28684 United States;X-APPLE-RADIUS=500;X-TITLE=3977 Todd Railroad Grade Road:geo:-81.594863,36.3084142
END:VEVENT
BEGIN:VEVENT
DTSTART;TZID=America/New_York:20250719T180000
DTEND;TZID=America/New_York:20250719T200000
DTSTAMP:20260419T135344
CREATED:20160329T040000Z
LAST-MODIFIED:20250522T165533Z
UID:54480-1752948000-1752955200@www.blueridgemusicnc.com
SUMMARY:Todd Summer Music Series
DESCRIPTION:We are very excited about the 2025 Todd Summer Music Series lineup featuring six bands. The concerts take place outdoors in Cook Memorial Park in downtown Todd\, 3865 Todd Railroad Grade Road. Please bring a chair or blanket to sit on. Well-behaved dogs on leashed are welcome. Hamburgers\, hotdogs and veggie burgers off the grill are available for sale\, as well as chips and cookies. We hope to see you there. Please check our Facebook page here for updates in case of possible bad weather. \nHere is the 2025 lineup:\nSaturday\, June 28 – The Lucky Strikes\, 6:00 PM – 8:00 PM  \nFriday\, July 4 – The King Bees (concert starts at the end of the Todd Liberty Parade)\, 11:30 AM – 1:30 PM \nSaturday\, July 19 – Wayne Henderson & Friends\, 6:00 PM – 8:00 PM \nSaturday\, Aug 2 – The Burnett Sisters\, 6:00 PM – 8:00 PM  \nSaturday\, Aug 16 – Sassafras\, 6:00 PM – 8:00 PM  \nSaturday\, Aug 30 – Jeff Little Trio\, 6:00 PM – 8:00 PM 
URL:https://www.blueridgemusicnc.com/event/todd-summer-music-series/2025-07-19/
LOCATION:Cook Memorial Park\, 3977 Todd Railroad Grade Road\, Todd\, NC\, 28684\, United States
CATEGORIES:Bluegrass,Old-Time
ATTACH;FMTTYPE=image/png:https://www.blueridgemusicnc.com/wp-content/uploads/2016/03/The-Burnette-Sisters-Todd-Summer-Concert-Series-e1677007716637.png
ORGANIZER;CN="Todd Community Preservation Organization":MAILTO:Info@ToddNC.org
GEO:36.3084142;-81.594863
X-APPLE-STRUCTURED-LOCATION;VALUE=URI;X-ADDRESS=Cook Memorial Park 3977 Todd Railroad Grade Road Todd NC 28684 United States;X-APPLE-RADIUS=500;X-TITLE=3977 Todd Railroad Grade Road:geo:-81.594863,36.3084142
END:VEVENT
BEGIN:VEVENT
DTSTART;TZID=America/New_York:20250704T113000
DTEND;TZID=America/New_York:20250704T133000
DTSTAMP:20260419T135344
CREATED:20160329T040000Z
LAST-MODIFIED:20250522T165533Z
UID:54479-1751628600-1751635800@www.blueridgemusicnc.com
SUMMARY:Todd Summer Music Series
DESCRIPTION:We are very excited about the 2025 Todd Summer Music Series lineup featuring six bands. The concerts take place outdoors in Cook Memorial Park in downtown Todd\, 3865 Todd Railroad Grade Road. Please bring a chair or blanket to sit on. Well-behaved dogs on leashed are welcome. Hamburgers\, hotdogs and veggie burgers off the grill are available for sale\, as well as chips and cookies. We hope to see you there. Please check our Facebook page here for updates in case of possible bad weather. \nHere is the 2025 lineup:\nSaturday\, June 28 – The Lucky Strikes\, 6:00 PM – 8:00 PM  \nFriday\, July 4 – The King Bees (concert starts at the end of the Todd Liberty Parade)\, 11:30 AM – 1:30 PM \nSaturday\, July 19 – Wayne Henderson & Friends\, 6:00 PM – 8:00 PM \nSaturday\, Aug 2 – The Burnett Sisters\, 6:00 PM – 8:00 PM  \nSaturday\, Aug 16 – Sassafras\, 6:00 PM – 8:00 PM  \nSaturday\, Aug 30 – Jeff Little Trio\, 6:00 PM – 8:00 PM 
URL:https://www.blueridgemusicnc.com/event/todd-summer-music-series/2025-07-04/
LOCATION:Cook Memorial Park\, 3977 Todd Railroad Grade Road\, Todd\, NC\, 28684\, United States
CATEGORIES:Bluegrass,Old-Time
ATTACH;FMTTYPE=image/png:https://www.blueridgemusicnc.com/wp-content/uploads/2016/03/The-Burnette-Sisters-Todd-Summer-Concert-Series-e1677007716637.png
ORGANIZER;CN="Todd Community Preservation Organization":MAILTO:Info@ToddNC.org
GEO:36.3084142;-81.594863
X-APPLE-STRUCTURED-LOCATION;VALUE=URI;X-ADDRESS=Cook Memorial Park 3977 Todd Railroad Grade Road Todd NC 28684 United States;X-APPLE-RADIUS=500;X-TITLE=3977 Todd Railroad Grade Road:geo:-81.594863,36.3084142
END:VEVENT
BEGIN:VEVENT
DTSTART;TZID=America/New_York:20250628T180000
DTEND;TZID=America/New_York:20250628T200000
DTSTAMP:20260419T135344
CREATED:20160329T040000Z
LAST-MODIFIED:20250522T165533Z
UID:26802-1751133600-1751140800@www.blueridgemusicnc.com
SUMMARY:Todd Summer Music Series
DESCRIPTION:We are very excited about the 2025 Todd Summer Music Series lineup featuring six bands. The concerts take place outdoors in Cook Memorial Park in downtown Todd\, 3865 Todd Railroad Grade Road. Please bring a chair or blanket to sit on. Well-behaved dogs on leashed are welcome. Hamburgers\, hotdogs and veggie burgers off the grill are available for sale\, as well as chips and cookies. We hope to see you there. Please check our Facebook page here for updates in case of possible bad weather. \nHere is the 2025 lineup:\nSaturday\, June 28 – The Lucky Strikes\, 6:00 PM – 8:00 PM  \nFriday\, July 4 – The King Bees (concert starts at the end of the Todd Liberty Parade)\, 11:30 AM – 1:30 PM \nSaturday\, July 19 – Wayne Henderson & Friends\, 6:00 PM – 8:00 PM \nSaturday\, Aug 2 – The Burnett Sisters\, 6:00 PM – 8:00 PM  \nSaturday\, Aug 16 – Sassafras\, 6:00 PM – 8:00 PM  \nSaturday\, Aug 30 – Jeff Little Trio\, 6:00 PM – 8:00 PM 
URL:https://www.blueridgemusicnc.com/event/todd-summer-music-series/2025-06-28/
LOCATION:Cook Memorial Park\, 3977 Todd Railroad Grade Road\, Todd\, NC\, 28684\, United States
CATEGORIES:Bluegrass,Old-Time
ATTACH;FMTTYPE=image/png:https://www.blueridgemusicnc.com/wp-content/uploads/2016/03/The-Burnette-Sisters-Todd-Summer-Concert-Series-e1677007716637.png
ORGANIZER;CN="Todd Community Preservation Organization":MAILTO:Info@ToddNC.org
GEO:36.3084142;-81.594863
X-APPLE-STRUCTURED-LOCATION;VALUE=URI;X-ADDRESS=Cook Memorial Park 3977 Todd Railroad Grade Road Todd NC 28684 United States;X-APPLE-RADIUS=500;X-TITLE=3977 Todd Railroad Grade Road:geo:-81.594863,36.3084142
END:VEVENT
END:VCALENDAR