BEGIN:VCALENDAR
VERSION:2.0
PRODID:-//Blue Ridge Music Trails - ECPv6.15.18//NONSGML v1.0//EN
CALSCALE:GREGORIAN
METHOD:PUBLISH
X-WR-CALNAME:Blue Ridge Music Trails
X-ORIGINAL-URL:https://www.blueridgemusicnc.com
X-WR-CALDESC:Events for Blue Ridge Music Trails
REFRESH-INTERVAL;VALUE=DURATION:PT1H
X-Robots-Tag:noindex
X-PUBLISHED-TTL:PT1H
BEGIN:VTIMEZONE
TZID:America/New_York
BEGIN:DAYLIGHT
TZOFFSETFROM:-0500
TZOFFSETTO:-0400
TZNAME:EDT
DTSTART:20230312T070000
END:DAYLIGHT
BEGIN:STANDARD
TZOFFSETFROM:-0400
TZOFFSETTO:-0500
TZNAME:EST
DTSTART:20231105T060000
END:STANDARD
BEGIN:DAYLIGHT
TZOFFSETFROM:-0500
TZOFFSETTO:-0400
TZNAME:EDT
DTSTART:20240310T070000
END:DAYLIGHT
BEGIN:STANDARD
TZOFFSETFROM:-0400
TZOFFSETTO:-0500
TZNAME:EST
DTSTART:20241103T060000
END:STANDARD
BEGIN:DAYLIGHT
TZOFFSETFROM:-0500
TZOFFSETTO:-0400
TZNAME:EDT
DTSTART:20250309T070000
END:DAYLIGHT
BEGIN:STANDARD
TZOFFSETFROM:-0400
TZOFFSETTO:-0500
TZNAME:EST
DTSTART:20251102T060000
END:STANDARD
BEGIN:DAYLIGHT
TZOFFSETFROM:-0500
TZOFFSETTO:-0400
TZNAME:EDT
DTSTART:20260308T070000
END:DAYLIGHT
BEGIN:STANDARD
TZOFFSETFROM:-0400
TZOFFSETTO:-0500
TZNAME:EST
DTSTART:20261101T060000
END:STANDARD
BEGIN:DAYLIGHT
TZOFFSETFROM:-0500
TZOFFSETTO:-0400
TZNAME:EDT
DTSTART:20270314T070000
END:DAYLIGHT
BEGIN:STANDARD
TZOFFSETFROM:-0400
TZOFFSETTO:-0500
TZNAME:EST
DTSTART:20271107T060000
END:STANDARD
END:VTIMEZONE
BEGIN:VEVENT
DTSTART;TZID=America/New_York:20260321T193000
DTEND;TZID=America/New_York:20260321T211500
DTSTAMP:20260422T060604
CREATED:20260302T202012Z
LAST-MODIFIED:20260313T195623Z
UID:64406-1774121400-1774127700@www.blueridgemusicnc.com
SUMMARY:Allison de Groot & Tatiana Hargreaves
DESCRIPTION:Overview\nCome join MHU’s Ramsey Center for Appalachian Studies for a live performance at Mars Hill University’s intimate Owen Theatre! \nPlease join the Ramsey Center for Appalachian Studies for our annual spring concert. This year\, we are proud to welcome Allison de Groot & Tatiana Hargreaves! \nAllison de Groot & Tatiana Hargreaves are thrilled to announce their live album recording tour\, capturing the energy of each night on stage. As a duo\, they thrive in live performance—responding to each audience\, each space\, and the spontaneity of the moment. From the first strum of the banjo or pull of the bow\, time slips away as de Groot & Hargreaves settle in on stage to entertain. They offer sets of instrumentals in medley; tell stories of lyrics and verses and from where they were found\, learned\, and arranged; they’ll sing in harmony – acapella or accompanying each other in experimental or classic ways; they laugh and banter and engage their audiences\, encouraging dancing and singing along. At times\, their songs purposefully fly off the rails into noise\, spacey bridges\, and ripping hoedowns\, bow strokes and frailing giving way to scratches and honks\, wails and trills. It’s old-time and it’s jamgrass\, it’s rehearsed and it’s improvised\, it’s electric and goosebump-raising. It’s also tight\, tidy\, and professional and while demanding that you remain on the absolute edge of your seat. \n  \nTickets available here.  \n 
URL:https://www.blueridgemusicnc.com/event/allison-de-groot-tatiana-hargreaves/
LOCATION:Ramsey Center for Appalachian Studies at Mars Hill University\, 147 Bailey Street\, Mars Hill\, NC\, 28754\, United States
CATEGORIES:Bluegrass,Featured,Old-Time
ATTACH;FMTTYPE=image/png:https://www.blueridgemusicnc.com/wp-content/uploads/2026/03/hargreaves-and-degroot.png
ORGANIZER;CN="Ramsey Center for Appalachian Studies":MAILTO:lweinstein@mhu.edu
GEO:35.827624;-82.551654
X-APPLE-STRUCTURED-LOCATION;VALUE=URI;X-ADDRESS=Ramsey Center for Appalachian Studies at Mars Hill University 147 Bailey Street Mars Hill NC 28754 United States;X-APPLE-RADIUS=500;X-TITLE=147 Bailey Street:geo:-82.551654,35.827624
END:VEVENT
BEGIN:VEVENT
DTSTART;TZID=America/New_York:20241121T190000
DTEND;TZID=America/New_York:20241121T210000
DTSTAMP:20260422T060604
CREATED:20241031T190647Z
LAST-MODIFIED:20241031T190659Z
UID:52021-1732215600-1732222800@www.blueridgemusicnc.com
SUMMARY:Fall Square Dance
DESCRIPTION:Join us for a square dance in MHU’s Loft with caller Rodney Sutton and live old-time music! Absolutely no experience is necessary – first-timers are welcome and encouraged. Rodney will tell you what to do! This dance is free and open to all – both on campus and community. MHU’s very own Bailey Mountain Cloggers will be there too!\nBrought to you by the Ramsey Center for Appalachian Studies with support from the Madison County Tourism Development Authority. The Ramsey Center is a proud site on the Blue Ridge Music Trails of North Carolina.
URL:https://www.blueridgemusicnc.com/event/52021/
LOCATION:Ramsey Center for Appalachian Studies at Mars Hill University\, 147 Bailey Street\, Mars Hill\, NC\, 28754\, United States
CATEGORIES:Clogging,Old-Time,Square Dancing
ATTACH;FMTTYPE=image/jpeg:https://www.blueridgemusicnc.com/wp-content/uploads/2024/10/squaredance.jpg
ORGANIZER;CN="Ramsey Center for Appalachian Studies":MAILTO:lweinstein@mhu.edu
GEO:35.827624;-82.551654
X-APPLE-STRUCTURED-LOCATION;VALUE=URI;X-ADDRESS=Ramsey Center for Appalachian Studies at Mars Hill University 147 Bailey Street Mars Hill NC 28754 United States;X-APPLE-RADIUS=500;X-TITLE=147 Bailey Street:geo:-82.551654,35.827624
END:VEVENT
BEGIN:VEVENT
DTSTART;TZID=America/New_York:20241024T190000
DTEND;TZID=America/New_York:20241024T210000
DTSTAMP:20260422T060604
CREATED:20240926T213944Z
LAST-MODIFIED:20240926T213944Z
UID:50993-1729796400-1729803600@www.blueridgemusicnc.com
SUMMARY:Scary Stories and Ballads with Sheila Kay Adams
DESCRIPTION:Get in the Halloween mood with scary stories and ballads from NEA National Heritage Fellow Sheila Kay Adams. Adams is the seventh-generation bearer of her family’s 200-year-old ballad-singing tradition.
URL:https://www.blueridgemusicnc.com/event/scary-stories-and-ballads-with-sheila-kay-adams/
LOCATION:Ramsey Center for Appalachian Studies at Mars Hill University\, 147 Bailey Street\, Mars Hill\, NC\, 28754\, United States
CATEGORIES:Ballad Singing
ATTACH;FMTTYPE=image/jpeg:https://www.blueridgemusicnc.com/wp-content/uploads/2024/09/Scary-Stories-768x994-1.jpg
ORGANIZER;CN="Ramsey Center for Appalachian Studies":MAILTO:lweinstein@mhu.edu
GEO:35.827624;-82.551654
X-APPLE-STRUCTURED-LOCATION;VALUE=URI;X-ADDRESS=Ramsey Center for Appalachian Studies at Mars Hill University 147 Bailey Street Mars Hill NC 28754 United States;X-APPLE-RADIUS=500;X-TITLE=147 Bailey Street:geo:-82.551654,35.827624
END:VEVENT
BEGIN:VEVENT
DTSTART;TZID=America/New_York:20241024T190000
DTEND;TZID=America/New_York:20241024T210000
DTSTAMP:20260422T060604
CREATED:20230202T220028Z
LAST-MODIFIED:20241017T180319Z
UID:42869-1729796400-1729803600@www.blueridgemusicnc.com
SUMMARY:Concerts at Mars Hill University
DESCRIPTION:Thursday\, October 24\, 2024 – Scary Stories and Ballads with Sheila Kay Adams – 7:00 PM – 9:00 PM \nPlease join us to hear Madison County’s own Sheila Kay Adams share stories and ballads on campus at Owen Theater. \nOur Appalachian region is grieving right now\, but we hope that coming together as a community and listening to songs and stories that have survived hundreds of years — across oceans\, continents\, and mountains — will provide some solace\, escape\, and beauty. \nNEA National Heritage Fellow Sheila Kay Adams. Adams is the seventh-generation bearer of her family’s two-hundred-year-old ballad-singing tradition. Her  teachers were her great-aunt Dellie Norton\, cousin Cas Wallin\, and other kinfolks in the Wallin\, Chandler\, Norton\, Ramsey\, and Ray families of Sodom\, North Carolina\, who have so long been admired by ballad singers and collectors. She has recorded prolifically and has performed at dozens of venues and festivals in the United States and Great Britain\, including at the annual National Storytelling Festival in Jonesborough\, TN. In 2013\, she received the National Heritage Fellowship\, the nation’s highest honor in the folk and traditional arts. Last week\, she was awarded Berea College’s Lifetime Achievement Award. \nThis program is free and open to the public. Seating is limited and is first-come\, first-served. (Please note: this program is not aimed for children.) \n*There will be a donation station set up for hurricane relief efforts for folks who wish and are able to donate.*\nWe send our good thoughts out to all of you\, and hope to see you all soon.
URL:https://www.blueridgemusicnc.com/event/concerts-at-mars-hill-university/
LOCATION:Owen Theater at Mars Hill University\, 44 College Street\, Mars Hill\, 28754\, United States
CATEGORIES:Ballad Singing,Featured,Old-Time,Storytelling
ATTACH;FMTTYPE=image/png:https://www.blueridgemusicnc.com/wp-content/uploads/2023/02/SKA-Banjos-Ballads-Bad-Men-MHU.png
ORGANIZER;CN="Ramsey Center for Appalachian Studies":MAILTO:lweinstein@mhu.edu
GEO:35.8272617;-82.5493987
X-APPLE-STRUCTURED-LOCATION;VALUE=URI;X-ADDRESS=Owen Theater at Mars Hill University 44 College Street Mars Hill 28754 United States;X-APPLE-RADIUS=500;X-TITLE=44 College Street:geo:-82.5493987,35.8272617
END:VEVENT
END:VCALENDAR