BEGIN:VCALENDAR
VERSION:2.0
PRODID:-//Blue Ridge Music Trails - ECPv6.15.18//NONSGML v1.0//EN
CALSCALE:GREGORIAN
METHOD:PUBLISH
X-WR-CALNAME:Blue Ridge Music Trails
X-ORIGINAL-URL:https://www.blueridgemusicnc.com
X-WR-CALDESC:Events for Blue Ridge Music Trails
REFRESH-INTERVAL;VALUE=DURATION:PT1H
X-Robots-Tag:noindex
X-PUBLISHED-TTL:PT1H
BEGIN:VTIMEZONE
TZID:America/New_York
BEGIN:DAYLIGHT
TZOFFSETFROM:-0500
TZOFFSETTO:-0400
TZNAME:EDT
DTSTART:20250309T070000
END:DAYLIGHT
BEGIN:STANDARD
TZOFFSETFROM:-0400
TZOFFSETTO:-0500
TZNAME:EST
DTSTART:20251102T060000
END:STANDARD
BEGIN:DAYLIGHT
TZOFFSETFROM:-0500
TZOFFSETTO:-0400
TZNAME:EDT
DTSTART:20260308T070000
END:DAYLIGHT
BEGIN:STANDARD
TZOFFSETFROM:-0400
TZOFFSETTO:-0500
TZNAME:EST
DTSTART:20261101T060000
END:STANDARD
BEGIN:DAYLIGHT
TZOFFSETFROM:-0500
TZOFFSETTO:-0400
TZNAME:EDT
DTSTART:20270314T070000
END:DAYLIGHT
BEGIN:STANDARD
TZOFFSETFROM:-0400
TZOFFSETTO:-0500
TZNAME:EST
DTSTART:20271107T060000
END:STANDARD
END:VTIMEZONE
BEGIN:VEVENT
DTSTART;VALUE=DATE:20260731
DTEND;VALUE=DATE:20260801
DTSTAMP:20260419T151144
CREATED:20250730T221634Z
LAST-MODIFIED:20251208T181644Z
UID:59143-1785456000-1785542399@www.blueridgemusicnc.com
SUMMARY:Fly Around Fest
DESCRIPTION:A celebration of the natural beauty and musical heritage of this special corner of Western NC\, carrying forward the spirit of Appalachia. \nFly Around Fest highlights the region’s artistic legacies and its role as a vibrant center of creativity\, while showcasing artists pushing the boundaries of tradition. \nStay tuned for updates for next year’s festival!
URL:https://www.blueridgemusicnc.com/event/fly-around-fest-2/2026-07-31/
LOCATION:Lost Province Center for Cultural Arts\, 9710 NC Highway 194 | PO BOX 224\, Lansing\, NC\, 28643\, United States
CATEGORIES:Bluegrass,Featured,Folk,Old-Time
ATTACH;FMTTYPE=image/webp:https://www.blueridgemusicnc.com/wp-content/uploads/2025/07/FlyAround-2026.webp
END:VEVENT
BEGIN:VEVENT
DTSTART;VALUE=DATE:20260801
DTEND;VALUE=DATE:20260802
DTSTAMP:20260419T151144
CREATED:20250730T221634Z
LAST-MODIFIED:20250730T221634Z
UID:63323-1785542400-1785628799@www.blueridgemusicnc.com
SUMMARY:Fly Around Fest
DESCRIPTION:A celebration of the natural beauty and musical heritage of this special corner of Western NC\, carrying forward the spirit of Appalachia. \nFly Around Fest highlights the region’s artistic legacies and its role as a vibrant center of creativity\, while showcasing artists pushing the boundaries of tradition. \nStay tuned for updates for next year’s festival!
URL:https://www.blueridgemusicnc.com/event/fly-around-fest-2/2026-08-01/
LOCATION:Lost Province Center for Cultural Arts\, 9710 NC Highway 194 | PO BOX 224\, Lansing\, NC\, 28643\, United States
CATEGORIES:Bluegrass,Featured,Folk,Old-Time
ATTACH;FMTTYPE=image/webp:https://www.blueridgemusicnc.com/wp-content/uploads/2025/07/FlyAround-2026.webp
END:VEVENT
END:VCALENDAR