BEGIN:VCALENDAR
VERSION:2.0
PRODID:-//Blue Ridge Music Trails - ECPv6.15.18//NONSGML v1.0//EN
CALSCALE:GREGORIAN
METHOD:PUBLISH
X-ORIGINAL-URL:https://www.blueridgemusicnc.com
X-WR-CALDESC:Events for Blue Ridge Music Trails
REFRESH-INTERVAL;VALUE=DURATION:PT1H
X-Robots-Tag:noindex
X-PUBLISHED-TTL:PT1H
BEGIN:VTIMEZONE
TZID:America/New_York
BEGIN:DAYLIGHT
TZOFFSETFROM:-0500
TZOFFSETTO:-0400
TZNAME:EDT
DTSTART:20240310T070000
END:DAYLIGHT
BEGIN:STANDARD
TZOFFSETFROM:-0400
TZOFFSETTO:-0500
TZNAME:EST
DTSTART:20241103T060000
END:STANDARD
BEGIN:DAYLIGHT
TZOFFSETFROM:-0500
TZOFFSETTO:-0400
TZNAME:EDT
DTSTART:20250309T070000
END:DAYLIGHT
BEGIN:STANDARD
TZOFFSETFROM:-0400
TZOFFSETTO:-0500
TZNAME:EST
DTSTART:20251102T060000
END:STANDARD
BEGIN:DAYLIGHT
TZOFFSETFROM:-0500
TZOFFSETTO:-0400
TZNAME:EDT
DTSTART:20260308T070000
END:DAYLIGHT
BEGIN:STANDARD
TZOFFSETFROM:-0400
TZOFFSETTO:-0500
TZNAME:EST
DTSTART:20261101T060000
END:STANDARD
END:VTIMEZONE
BEGIN:VEVENT
DTSTART;TZID=America/New_York:20250417T180000
DTEND;TZID=America/New_York:20250417T200000
DTSTAMP:20260419T165449
CREATED:20250314T215706Z
LAST-MODIFIED:20250314T215706Z
UID:54390-1744912800-1744920000@www.blueridgemusicnc.com
SUMMARY:Cast Iron Bluegrass Jam
DESCRIPTION:Swing by Eulogy in Asheville on Thursday 4/3 and Thursday\, 4/17 for two Free Shows and Open Jams. Bring your instruments and jump on stage. No tickets necessary.\n\n\n\nSince their formation in 2019\, Asheville-based Cast Iron Bluegrass has been forging a reputation as one of the region’s most compelling bluegrass outfits. Known for their signature blend of traditional three-part harmonies and modern songwriting sensibilities\, the band has quickly become a favorite among fans of both classic and contemporary bluegrass.\n\n\n\nWhether on stage or in the studio\, Cast Iron Bluegrass delivers performances brimming with authenticity\, heart\, and undeniable skill. As they continue to push the boundaries of traditional bluegrass while staying true to its essence\, the band solidifies its place as a leading force in the genre. With each note\, Cast Iron Bluegrass proves that the fire of tradition still burns bright—now with a flicker of modern innovation.
URL:https://www.blueridgemusicnc.com/event/cast-iron-bluegrass-jam-2/
LOCATION:Eulogy\, 10 Buxton Ave\, Asheville\, NC\, 28801\, United States
CATEGORIES:Bluegrass
ATTACH;FMTTYPE=image/jpeg:https://www.blueridgemusicnc.com/wp-content/uploads/2025/03/Eulogy.jpg
END:VEVENT
BEGIN:VEVENT
DTSTART;TZID=America/New_York:20250403T180000
DTEND;TZID=America/New_York:20250403T200000
DTSTAMP:20260419T165449
CREATED:20250314T215545Z
LAST-MODIFIED:20250314T215545Z
UID:54384-1743703200-1743710400@www.blueridgemusicnc.com
SUMMARY:Cast Iron Bluegrass Jam
DESCRIPTION:Swing by Eulogy in Asheville on Thursday 4/3 and Thursday\, 4/17 for two Free Shows and Open Jams. Bring your instruments and jump on stage. No tickets necessary.\n\n\n\nSince their formation in 2019\, Asheville-based Cast Iron Bluegrass has been forging a reputation as one of the region’s most compelling bluegrass outfits. Known for their signature blend of traditional three-part harmonies and modern songwriting sensibilities\, the band has quickly become a favorite among fans of both classic and contemporary bluegrass.\n\n\n\nWhether on stage or in the studio\, Cast Iron Bluegrass delivers performances brimming with authenticity\, heart\, and undeniable skill. As they continue to push the boundaries of traditional bluegrass while staying true to its essence\, the band solidifies its place as a leading force in the genre. With each note\, Cast Iron Bluegrass proves that the fire of tradition still burns bright—now with a flicker of modern innovation.
URL:https://www.blueridgemusicnc.com/event/cast-iron-bluegrass-jam/
LOCATION:Eulogy\, 10 Buxton Ave\, Asheville\, NC\, 28801\, United States
CATEGORIES:Bluegrass
ATTACH;FMTTYPE=image/jpeg:https://www.blueridgemusicnc.com/wp-content/uploads/2025/03/Eulogy.jpg
END:VEVENT
END:VCALENDAR