BEGIN:VCALENDAR
VERSION:2.0
PRODID:-//Blue Ridge Music Trails - ECPv6.15.18//NONSGML v1.0//EN
CALSCALE:GREGORIAN
METHOD:PUBLISH
X-ORIGINAL-URL:https://www.blueridgemusicnc.com
X-WR-CALDESC:Events for Blue Ridge Music Trails
REFRESH-INTERVAL;VALUE=DURATION:PT1H
X-Robots-Tag:noindex
X-PUBLISHED-TTL:PT1H
BEGIN:VTIMEZONE
TZID:America/New_York
BEGIN:DAYLIGHT
TZOFFSETFROM:-0500
TZOFFSETTO:-0400
TZNAME:EDT
DTSTART:20250309T070000
END:DAYLIGHT
BEGIN:STANDARD
TZOFFSETFROM:-0400
TZOFFSETTO:-0500
TZNAME:EST
DTSTART:20251102T060000
END:STANDARD
BEGIN:DAYLIGHT
TZOFFSETFROM:-0500
TZOFFSETTO:-0400
TZNAME:EDT
DTSTART:20260308T070000
END:DAYLIGHT
BEGIN:STANDARD
TZOFFSETFROM:-0400
TZOFFSETTO:-0500
TZNAME:EST
DTSTART:20261101T060000
END:STANDARD
BEGIN:DAYLIGHT
TZOFFSETFROM:-0500
TZOFFSETTO:-0400
TZNAME:EDT
DTSTART:20270314T070000
END:DAYLIGHT
BEGIN:STANDARD
TZOFFSETFROM:-0400
TZOFFSETTO:-0500
TZNAME:EST
DTSTART:20271107T060000
END:STANDARD
END:VTIMEZONE
BEGIN:VEVENT
DTSTART;TZID=America/New_York:20260421T173000
DTEND;TZID=America/New_York:20260421T193000
DTSTAMP:20260422T111230
CREATED:20230320T164021Z
LAST-MODIFIED:20260418T191546Z
UID:44629-1776792600-1776799800@www.blueridgemusicnc.com
SUMMARY:Stecoah Community Jam
DESCRIPTION:Community Jam \nEvery 3rd Tuesday\n5:30 pm to 7:30 pm \nMark your calendars for the 3rd Tuesday of every month to join us for a Schoolhouse Community Jam. Bring your instruments and join our circle! We invite musicians of all levels to come out and join together for an evening of playing together. \nYou can begin gathering / playing anytime after 5:30 pm. 5:30 – 6:00 will be a Slow Jam – great for beginners and novice musicians. You will be able to meet and play along with our JAM Band students. It’s the perfect opportunity to get your feet wet if you are new to jamming. The evening is strictly a jam time (no instruction) but is open to all ages and abilities. Our goal is to create a nurturing environment to encourage budding musicians (and those with dusty instruments). The remaining jam time we will take direction from the group as to what and how fast we play. We hope to see you there! \nNOTE: For the time being the monthly potluck is on hold but if the group desires to have the potluck we can resume it in the future.
URL:https://www.blueridgemusicnc.com/event/stecoah-community-jam/2026-04-21/
LOCATION:Stecoah Valley Cultural Arts Center\, 121 Schoolhouse Road\, Robbinsville\, NC\, 28711\, United States
CATEGORIES:Bluegrass,Featured,Old-Time
ATTACH;FMTTYPE=image/png:https://www.blueridgemusicnc.com/wp-content/uploads/2023/03/Screen-Shot-2023-03-20-at-12.38.50-PM.png
GEO:35.3684673;-83.6928016
X-APPLE-STRUCTURED-LOCATION;VALUE=URI;X-ADDRESS=Stecoah Valley Cultural Arts Center 121 Schoolhouse Road Robbinsville NC 28711 United States;X-APPLE-RADIUS=500;X-TITLE=121 Schoolhouse Road:geo:-83.6928016,35.3684673
END:VEVENT
END:VCALENDAR