BEGIN:VCALENDAR
VERSION:2.0
PRODID:-//Blue Ridge Music Trails - ECPv6.15.18//NONSGML v1.0//EN
CALSCALE:GREGORIAN
METHOD:PUBLISH
X-WR-CALNAME:Blue Ridge Music Trails
X-ORIGINAL-URL:https://www.blueridgemusicnc.com
X-WR-CALDESC:Events for Blue Ridge Music Trails
REFRESH-INTERVAL;VALUE=DURATION:PT1H
X-Robots-Tag:noindex
X-PUBLISHED-TTL:PT1H
BEGIN:VTIMEZONE
TZID:America/New_York
BEGIN:DAYLIGHT
TZOFFSETFROM:-0500
TZOFFSETTO:-0400
TZNAME:EDT
DTSTART:20240310T070000
END:DAYLIGHT
BEGIN:STANDARD
TZOFFSETFROM:-0400
TZOFFSETTO:-0500
TZNAME:EST
DTSTART:20241103T060000
END:STANDARD
BEGIN:DAYLIGHT
TZOFFSETFROM:-0500
TZOFFSETTO:-0400
TZNAME:EDT
DTSTART:20250309T070000
END:DAYLIGHT
BEGIN:STANDARD
TZOFFSETFROM:-0400
TZOFFSETTO:-0500
TZNAME:EST
DTSTART:20251102T060000
END:STANDARD
BEGIN:DAYLIGHT
TZOFFSETFROM:-0500
TZOFFSETTO:-0400
TZNAME:EDT
DTSTART:20260308T070000
END:DAYLIGHT
BEGIN:STANDARD
TZOFFSETFROM:-0400
TZOFFSETTO:-0500
TZNAME:EST
DTSTART:20261101T060000
END:STANDARD
END:VTIMEZONE
BEGIN:VEVENT
DTSTART;VALUE=DATE:20250920
DTEND;VALUE=DATE:20250921
DTSTAMP:20260425T150632
CREATED:20140729T040000Z
LAST-MODIFIED:20140729T040000Z
UID:54690-1758326400-1758412799@www.blueridgemusicnc.com
SUMMARY:Fontana Clogging Jamboree
DESCRIPTION:Nestled in the Great Smoky Mountains\, Fontana Village has a rich history in square dancing and clogging and is considered by many to be the birthplace of modern clog dancing.  Steps like the “rockin’ chair” were invented at this very place. Now you can come and experience the magic of this place for yourself! \nWe look forward to seeing you at Fontana September 19-20\, 2025 at Fontana Village Resort\, North Carolina in the great Smoky Mountains!\nwith your hosts Naomi Pyle & Jeff Driggs\, plus Fontana favorites Chip Summey\, Barry Welch\, Sherry Cox\, Trevor Dwitt\, Morgan Hudson\, and Melissa Pack. \nThere will be advanced classes with Stephen Auten & Ellie Holtsclaw\, Marek Chytra\, Gavin Cox\, Drake & Karen Elkin\, Madi Lucas. \nFun workshops and traditional dancing with Tim Smith\, Fonda Harkleroad\, Jacob Fennell\, Carter Higgins\, Adam Mowry & more. \nPlus\, a live music concert with Carson Peters and Iron Mountain on Friday evening. \nDances on Friday and Saturday nights\, including the Happy Trails After Party with Fun Dance King Trevor Dewitt. \nThere are a variety of housing options at Fontana Village. Book lodging reservations directly with Fontana Village resorts at www.fontanavillage.com and click “Accommodations” or phone (800) 849-2258.
URL:https://www.blueridgemusicnc.com/event/fontana-clogging-jamboree/2025-09-20/
LOCATION:Fontana Village Resort – Events Hall\, 300 Woods Road\, Fontana Dam\, NC\, 28733\, United States
CATEGORIES:Bluegrass,Clogging
ATTACH;FMTTYPE=image/gif:https://www.blueridgemusicnc.com/wp-content/uploads/2021/11/2014-logo-banner_1.gif
GEO:35.4334645;-83.8228146
X-APPLE-STRUCTURED-LOCATION;VALUE=URI;X-ADDRESS=Fontana Village Resort – Events Hall 300 Woods Road Fontana Dam NC 28733 United States;X-APPLE-RADIUS=500;X-TITLE=300 Woods Road:geo:-83.8228146,35.4334645
END:VEVENT
BEGIN:VEVENT
DTSTART;VALUE=DATE:20250919
DTEND;VALUE=DATE:20250920
DTSTAMP:20260425T150632
CREATED:20140729T040000Z
LAST-MODIFIED:20250326T151618Z
UID:26704-1758240000-1758326399@www.blueridgemusicnc.com
SUMMARY:Fontana Clogging Jamboree
DESCRIPTION:Nestled in the Great Smoky Mountains\, Fontana Village has a rich history in square dancing and clogging and is considered by many to be the birthplace of modern clog dancing.  Steps like the “rockin’ chair” were invented at this very place. Now you can come and experience the magic of this place for yourself! \nWe look forward to seeing you at Fontana September 19-20\, 2025 at Fontana Village Resort\, North Carolina in the great Smoky Mountains!\nwith your hosts Naomi Pyle & Jeff Driggs\, plus Fontana favorites Chip Summey\, Barry Welch\, Sherry Cox\, Trevor Dwitt\, Morgan Hudson\, and Melissa Pack. \nThere will be advanced classes with Stephen Auten & Ellie Holtsclaw\, Marek Chytra\, Gavin Cox\, Drake & Karen Elkin\, Madi Lucas. \nFun workshops and traditional dancing with Tim Smith\, Fonda Harkleroad\, Jacob Fennell\, Carter Higgins\, Adam Mowry & more. \nPlus\, a live music concert with Carson Peters and Iron Mountain on Friday evening. \nDances on Friday and Saturday nights\, including the Happy Trails After Party with Fun Dance King Trevor Dewitt. \nThere are a variety of housing options at Fontana Village. Book lodging reservations directly with Fontana Village resorts at www.fontanavillage.com and click “Accommodations” or phone (800) 849-2258.
URL:https://www.blueridgemusicnc.com/event/fontana-clogging-jamboree/2025-09-19/
LOCATION:Fontana Village Resort – Events Hall\, 300 Woods Road\, Fontana Dam\, NC\, 28733\, United States
CATEGORIES:Bluegrass,Clogging
ATTACH;FMTTYPE=image/gif:https://www.blueridgemusicnc.com/wp-content/uploads/2021/11/2014-logo-banner_1.gif
GEO:35.4334645;-83.8228146
X-APPLE-STRUCTURED-LOCATION;VALUE=URI;X-ADDRESS=Fontana Village Resort – Events Hall 300 Woods Road Fontana Dam NC 28733 United States;X-APPLE-RADIUS=500;X-TITLE=300 Woods Road:geo:-83.8228146,35.4334645
END:VEVENT
END:VCALENDAR