BEGIN:VCALENDAR
VERSION:2.0
PRODID:-//Blue Ridge Music Trails - ECPv6.15.18//NONSGML v1.0//EN
CALSCALE:GREGORIAN
METHOD:PUBLISH
X-WR-CALNAME:Blue Ridge Music Trails
X-ORIGINAL-URL:https://www.blueridgemusicnc.com
X-WR-CALDESC:Events for Blue Ridge Music Trails
REFRESH-INTERVAL;VALUE=DURATION:PT1H
X-Robots-Tag:noindex
X-PUBLISHED-TTL:PT1H
BEGIN:VTIMEZONE
TZID:America/New_York
BEGIN:DAYLIGHT
TZOFFSETFROM:-0500
TZOFFSETTO:-0400
TZNAME:EDT
DTSTART:20250309T070000
END:DAYLIGHT
BEGIN:STANDARD
TZOFFSETFROM:-0400
TZOFFSETTO:-0500
TZNAME:EST
DTSTART:20251102T060000
END:STANDARD
BEGIN:DAYLIGHT
TZOFFSETFROM:-0500
TZOFFSETTO:-0400
TZNAME:EDT
DTSTART:20260308T070000
END:DAYLIGHT
BEGIN:STANDARD
TZOFFSETFROM:-0400
TZOFFSETTO:-0500
TZNAME:EST
DTSTART:20261101T060000
END:STANDARD
BEGIN:DAYLIGHT
TZOFFSETFROM:-0500
TZOFFSETTO:-0400
TZNAME:EDT
DTSTART:20270314T070000
END:DAYLIGHT
BEGIN:STANDARD
TZOFFSETFROM:-0400
TZOFFSETTO:-0500
TZNAME:EST
DTSTART:20271107T060000
END:STANDARD
END:VTIMEZONE
BEGIN:VEVENT
DTSTART;TZID=America/New_York:20260502T100000
DTEND;TZID=America/New_York:20260502T160000
DTSTAMP:20260422T091947
CREATED:20250501T071709Z
LAST-MODIFIED:20260418T202106Z
UID:55213-1777716000-1777737600@www.blueridgemusicnc.com
SUMMARY:Bluegrass at Altapass: Bluegrass and Bluegrass Gospel Music Festival
DESCRIPTION:Join us for the 2nd Annual Bluegrass at Altapass Festival\, a weekend celebration of traditional bluegrass and bluegrass gospel music set against the breathtaking backdrop of the Blue Ridge Mountains. Taking place Saturday and Sunday\, May 2–3\, 2026\, this year’s festival has grown into a two-day event\, featuring an expanded lineup of talented regional musicians\, along with two special performances from area music students and a heartfelt gospel singalong. \nFestivities will be held in the Orchard’s scenic music pavilion\, where rolling mountain views and live music come together in a way that’s hard to beat. Saturday’s schedule runs from 10 AM to 4 PM\, and Sunday from 11 AM to 4 PM—plenty of time to settle in\, soak up the sounds\, and enjoy the atmosphere. \nThis year’s lineup includes: \nSaturday\nNewland JAM Students\nHillbilly Aliens\nFully Persuaded\nRhonda Gouge & Keepin’ time\nBuffalo Cove\nSmall Town Anthem \nSunday\nHymn Sing-Along\nBlessed Beyond Measure\nNo Name But His\nToe River Arts TAPS Students
URL:https://www.blueridgemusicnc.com/event/bluegrass-at-altapass-bluegrass-and-bluegrass-gospel-music-festival/2026-05-02/
LOCATION:Orchard at Altapass\, 1025 Orchard Road\, Spruce Pine\, NC\, 28777\, United States
CATEGORIES:Bluegrass,Clogging,Featured,Gospel,Old-Time
ATTACH;FMTTYPE=image/jpeg:https://www.blueridgemusicnc.com/wp-content/uploads/2025/05/bluegrassaltapass.jpg
GEO:35.8755746;-82.0245786
X-APPLE-STRUCTURED-LOCATION;VALUE=URI;X-ADDRESS=Orchard at Altapass 1025 Orchard Road Spruce Pine NC 28777 United States;X-APPLE-RADIUS=500;X-TITLE=1025 Orchard Road:geo:-82.0245786,35.8755746
END:VEVENT
BEGIN:VEVENT
DTSTART;TZID=America/New_York:20260503T120000
DTEND;TZID=America/New_York:20260503T160000
DTSTAMP:20260422T091947
CREATED:20250501T071709Z
LAST-MODIFIED:20250501T071709Z
UID:64978-1777809600-1777824000@www.blueridgemusicnc.com
SUMMARY:Bluegrass at Altapass: Bluegrass and Bluegrass Gospel Music Festival
DESCRIPTION:Join us for the 2nd Annual Bluegrass at Altapass Festival\, a weekend celebration of traditional bluegrass and bluegrass gospel music set against the breathtaking backdrop of the Blue Ridge Mountains. Taking place Saturday and Sunday\, May 2–3\, 2026\, this year’s festival has grown into a two-day event\, featuring an expanded lineup of talented regional musicians\, along with two special performances from area music students and a heartfelt gospel singalong. \nFestivities will be held in the Orchard’s scenic music pavilion\, where rolling mountain views and live music come together in a way that’s hard to beat. Saturday’s schedule runs from 10 AM to 4 PM\, and Sunday from 11 AM to 4 PM—plenty of time to settle in\, soak up the sounds\, and enjoy the atmosphere. \nThis year’s lineup includes: \nSaturday\nNewland JAM Students\nHillbilly Aliens\nFully Persuaded\nRhonda Gouge & Keepin’ time\nBuffalo Cove\nSmall Town Anthem \nSunday\nHymn Sing-Along\nBlessed Beyond Measure\nNo Name But His\nToe River Arts TAPS Students
URL:https://www.blueridgemusicnc.com/event/bluegrass-at-altapass-bluegrass-and-bluegrass-gospel-music-festival/2026-05-03/
LOCATION:Orchard at Altapass\, 1025 Orchard Road\, Spruce Pine\, NC\, 28777\, United States
CATEGORIES:Bluegrass,Clogging,Featured,Gospel,Old-Time
ATTACH;FMTTYPE=image/jpeg:https://www.blueridgemusicnc.com/wp-content/uploads/2025/05/bluegrassaltapass.jpg
GEO:35.8755746;-82.0245786
X-APPLE-STRUCTURED-LOCATION;VALUE=URI;X-ADDRESS=Orchard at Altapass 1025 Orchard Road Spruce Pine NC 28777 United States;X-APPLE-RADIUS=500;X-TITLE=1025 Orchard Road:geo:-82.0245786,35.8755746
END:VEVENT
END:VCALENDAR